BEGIN:VCALENDAR
VERSION:2.0
PRODID:-//FNRG65300 - ECPv6.15.14//NONSGML v1.0//EN
CALSCALE:GREGORIAN
METHOD:PUBLISH
X-WR-CALNAME:FNRG65300
X-ORIGINAL-URL:https://fnrg65300.fr
X-WR-CALDESC:Évènements pour FNRG65300
REFRESH-INTERVAL;VALUE=DURATION:PT1H
X-Robots-Tag:noindex
X-PUBLISHED-TTL:PT1H
BEGIN:VTIMEZONE
TZID:Europe/Paris
BEGIN:DAYLIGHT
TZOFFSETFROM:+0100
TZOFFSETTO:+0200
TZNAME:CEST
DTSTART:20250330T010000
END:DAYLIGHT
BEGIN:STANDARD
TZOFFSETFROM:+0200
TZOFFSETTO:+0100
TZNAME:CET
DTSTART:20251026T010000
END:STANDARD
BEGIN:DAYLIGHT
TZOFFSETFROM:+0100
TZOFFSETTO:+0200
TZNAME:CEST
DTSTART:20260329T010000
END:DAYLIGHT
BEGIN:STANDARD
TZOFFSETFROM:+0200
TZOFFSETTO:+0100
TZNAME:CET
DTSTART:20261025T010000
END:STANDARD
BEGIN:DAYLIGHT
TZOFFSETFROM:+0100
TZOFFSETTO:+0200
TZNAME:CEST
DTSTART:20270328T010000
END:DAYLIGHT
BEGIN:STANDARD
TZOFFSETFROM:+0200
TZOFFSETTO:+0100
TZNAME:CET
DTSTART:20271031T010000
END:STANDARD
END:VTIMEZONE
BEGIN:VEVENT
DTSTART;TZID=Europe/Paris:20260508T113000
DTEND;TZID=Europe/Paris:20260508T120000
DTSTAMP:20260421T113511
CREATED:20260210T173610Z
LAST-MODIFIED:20260210T173610Z
UID:2525-1778239800-1778241600@fnrg65300.fr
SUMMARY:Anniversaire de la victoire du 8 mai 1945
DESCRIPTION:Loi n°81-893
URL:https://fnrg65300.fr/event/anniversaire-de-la-victoire-du-8-mai-1945-3/
LOCATION:Monument aux morts Lannemezan\, Monument aux morts\, Lannemezan\, Sélectionner un État :\, 65300\, France
END:VEVENT
BEGIN:VEVENT
DTSTART;TZID=Europe/Paris:20260527T113000
DTEND;TZID=Europe/Paris:20260527T120000
DTSTAMP:20260421T113511
CREATED:20260210T164947Z
LAST-MODIFIED:20260210T171410Z
UID:2506-1779881400-1779883200@fnrg65300.fr
SUMMARY:Journée nationale de la Résistance
DESCRIPTION:Loi 2013-642
URL:https://fnrg65300.fr/event/journee-nationale-de-la-resistance-2/
LOCATION:Monument des résistants
END:VEVENT
BEGIN:VEVENT
DTSTART;TZID=Europe/Paris:20260530T100000
DTEND;TZID=Europe/Paris:20260530T123000
DTSTAMP:20260421T113511
CREATED:20260409T112806Z
LAST-MODIFIED:20260409T112806Z
UID:2581-1780135200-1780144200@fnrg65300.fr
SUMMARY:Invitation – Journée du 30 mai 2026 à Campuzan
DESCRIPTION:Chers adhérents\, chers amis\, \nNous avons le plaisir de vous inviter à participer à notre journée conviviale qui se tiendra à Campuzan\, le samedi 30 mai 2026. \nCe rendez-vous sera marqué par un moment culturel de qualité\, suivi d’un temps d’échange et de convivialité. \nProgramme\n10h15 précises\nConférence : « Le mystère Louis XVII »\nPrésentée par Jean-Jacques Dumur\, conférencier \n11h45\nAllocution du Président \n12h15\nVin d’honneur \n12h45\nDéjeuner convivial \n\n\n\nNous espérons vous retrouver nombreux pour cette journée placée sous le signe de la découverte et du partage.
URL:https://fnrg65300.fr/event/invitation-journee-du-30-mai-2026-a-campuzan/
LOCATION:Campuzan
END:VEVENT
END:VCALENDAR