BEGIN:VCALENDAR
VERSION:2.0
PRODID:-//FNRG65300 - ECPv6.15.14//NONSGML v1.0//EN
CALSCALE:GREGORIAN
METHOD:PUBLISH
X-ORIGINAL-URL:https://fnrg65300.fr
X-WR-CALDESC:Évènements pour FNRG65300
REFRESH-INTERVAL;VALUE=DURATION:PT1H
X-Robots-Tag:noindex
X-PUBLISHED-TTL:PT1H
BEGIN:VTIMEZONE
TZID:Europe/Paris
BEGIN:DAYLIGHT
TZOFFSETFROM:+0100
TZOFFSETTO:+0200
TZNAME:CEST
DTSTART:20250330T010000
END:DAYLIGHT
BEGIN:STANDARD
TZOFFSETFROM:+0200
TZOFFSETTO:+0100
TZNAME:CET
DTSTART:20251026T010000
END:STANDARD
BEGIN:DAYLIGHT
TZOFFSETFROM:+0100
TZOFFSETTO:+0200
TZNAME:CEST
DTSTART:20260329T010000
END:DAYLIGHT
BEGIN:STANDARD
TZOFFSETFROM:+0200
TZOFFSETTO:+0100
TZNAME:CET
DTSTART:20261025T010000
END:STANDARD
BEGIN:DAYLIGHT
TZOFFSETFROM:+0100
TZOFFSETTO:+0200
TZNAME:CEST
DTSTART:20270328T010000
END:DAYLIGHT
BEGIN:STANDARD
TZOFFSETFROM:+0200
TZOFFSETTO:+0100
TZNAME:CET
DTSTART:20271031T010000
END:STANDARD
END:VTIMEZONE
BEGIN:VEVENT
DTSTART;TZID=Europe/Paris:20260131T090000
DTEND;TZID=Europe/Paris:20260131T120000
DTSTAMP:20260419T181532
CREATED:20251208T084147Z
LAST-MODIFIED:20251208T084147Z
UID:2311-1769850000-1769860800@fnrg65300.fr
SUMMARY:Assemblée générale 2026 FNRG Section Lannemezan
DESCRIPTION:Chère adhérente\, cher adhérent\, \nLe président\, les membres du bureau et du conseil d’administration vous invitent à participer à l’assemblée générale annuelle qui se tiendra le samedi 31 janvier 2026 à 09h00\, salle du Renouveau\, Espace Paul Bert à LANNEMEZAN. \n\n📋 PROGRAMME\n09h00 – 09h30\n👋 Accueil des participants \n💳 Paiement des cotisations 2026(20\,00 € retraités et membres bienfaiteurs — 10\,00 € pour les veuves et conjointes) \n\n09h30 – 10h45\n🏁 Ouverture de la séance par le président \n📚 Rapports : moral\, activités\, financier \n💬 Questions diverses – parole aux adhérents \n\n10h45 – 11h00\n🎖️ Réception des autorités civiles et militaires \n\n11h00 – 11h30\n🏅 Remise de récompenses \n\n11h30\n🥂 Vin d’honneur \n\n12h30\n🍽️ Déjeuner au restaurant « Le Pré Vert – Golf » de LANNEMEZAN
URL:https://fnrg65300.fr/event/assemblee-generale-2026-fnrg-section-lannemezan/
LOCATION:Salle du renouveau Lannemezan\, Lannemezan\, 65300\, France
END:VEVENT
END:VCALENDAR