BEGIN:VCALENDAR
VERSION:2.0
PRODID:-//FNRG65300 - ECPv6.15.14//NONSGML v1.0//EN
CALSCALE:GREGORIAN
METHOD:PUBLISH
X-WR-CALNAME:FNRG65300
X-ORIGINAL-URL:https://fnrg65300.fr
X-WR-CALDESC:Évènements pour FNRG65300
REFRESH-INTERVAL;VALUE=DURATION:PT1H
X-Robots-Tag:noindex
X-PUBLISHED-TTL:PT1H
BEGIN:VTIMEZONE
TZID:Europe/Paris
BEGIN:DAYLIGHT
TZOFFSETFROM:+0100
TZOFFSETTO:+0200
TZNAME:CEST
DTSTART:20240331T010000
END:DAYLIGHT
BEGIN:STANDARD
TZOFFSETFROM:+0200
TZOFFSETTO:+0100
TZNAME:CET
DTSTART:20241027T010000
END:STANDARD
BEGIN:DAYLIGHT
TZOFFSETFROM:+0100
TZOFFSETTO:+0200
TZNAME:CEST
DTSTART:20250330T010000
END:DAYLIGHT
BEGIN:STANDARD
TZOFFSETFROM:+0200
TZOFFSETTO:+0100
TZNAME:CET
DTSTART:20251026T010000
END:STANDARD
BEGIN:DAYLIGHT
TZOFFSETFROM:+0100
TZOFFSETTO:+0200
TZNAME:CEST
DTSTART:20260329T010000
END:DAYLIGHT
BEGIN:STANDARD
TZOFFSETFROM:+0200
TZOFFSETTO:+0100
TZNAME:CET
DTSTART:20261025T010000
END:STANDARD
END:VTIMEZONE
BEGIN:VEVENT
DTSTART;TZID=Europe/Paris:20251111T110000
DTEND;TZID=Europe/Paris:20251111T120000
DTSTAMP:20260419T211253
CREATED:20250617T111804Z
LAST-MODIFIED:20250617T111816Z
UID:1715-1762858800-1762862400@fnrg65300.fr
SUMMARY:Armistice de 1918 et hommage à tous les Morts pour la France
DESCRIPTION:Dépôts de gerbes : Souvenir Français\, Mairie de Lannemezan\, Légion d’Honneur
URL:https://fnrg65300.fr/event/armistice-de-1918-et-hommage-a-tous-les-morts-pour-la-france/
LOCATION:Cimetière Lannemezan\, France
END:VEVENT
BEGIN:VEVENT
DTSTART;TZID=Europe/Paris:20251126T110000
DTEND;TZID=Europe/Paris:20251126T120000
DTSTAMP:20260419T211253
CREATED:20250622T093813Z
LAST-MODIFIED:20250622T094339Z
UID:1853-1764154800-1764158400@fnrg65300.fr
SUMMARY:Sainte Geneviève et la gendarmerie
DESCRIPTION:La Patronne « des gendarmes français\, gardiens de l’ordre public »  \nSainte Geneviève est la sainte patronne de la gendarmerie française depuis le 18 mai 1962\, un décret du pape Jean XXIII. \nElle est célébrée par les gendarmes le 26 novembre\, en référence au « Miracle des Ardents » qui s’est produit à Paris en 1130
URL:https://fnrg65300.fr/event/sainte-genevieve-et-la-gendarmerie/
LOCATION:Monument aux morts Lannemezan\, Monument aux morts\, Lannemezan\, Sélectionner un État :\, 65300\, France
END:VEVENT
END:VCALENDAR