BEGIN:VCALENDAR
VERSION:2.0
PRODID:-//FNRG65300 - ECPv6.15.14//NONSGML v1.0//EN
CALSCALE:GREGORIAN
METHOD:PUBLISH
X-WR-CALNAME:FNRG65300
X-ORIGINAL-URL:https://fnrg65300.fr
X-WR-CALDESC:Évènements pour FNRG65300
REFRESH-INTERVAL;VALUE=DURATION:PT1H
X-Robots-Tag:noindex
X-PUBLISHED-TTL:PT1H
BEGIN:VTIMEZONE
TZID:Europe/Paris
BEGIN:DAYLIGHT
TZOFFSETFROM:+0100
TZOFFSETTO:+0200
TZNAME:CEST
DTSTART:20240331T010000
END:DAYLIGHT
BEGIN:STANDARD
TZOFFSETFROM:+0200
TZOFFSETTO:+0100
TZNAME:CET
DTSTART:20241027T010000
END:STANDARD
BEGIN:DAYLIGHT
TZOFFSETFROM:+0100
TZOFFSETTO:+0200
TZNAME:CEST
DTSTART:20250330T010000
END:DAYLIGHT
BEGIN:STANDARD
TZOFFSETFROM:+0200
TZOFFSETTO:+0100
TZNAME:CET
DTSTART:20251026T010000
END:STANDARD
BEGIN:DAYLIGHT
TZOFFSETFROM:+0100
TZOFFSETTO:+0200
TZNAME:CEST
DTSTART:20260329T010000
END:DAYLIGHT
BEGIN:STANDARD
TZOFFSETFROM:+0200
TZOFFSETTO:+0100
TZNAME:CET
DTSTART:20261025T010000
END:STANDARD
END:VTIMEZONE
BEGIN:VEVENT
DTSTART;TZID=Europe/Paris:20251003T080000
DTEND;TZID=Europe/Paris:20251003T170000
DTSTAMP:20260419T223636
CREATED:20250909T092500Z
LAST-MODIFIED:20250909T093148Z
UID:2140-1759478400-1759510800@fnrg65300.fr
SUMMARY:Réunion du conseil d'administration FNRG65 - ESCALA
DESCRIPTION:Préparation de la salle pour le lendemain \nOrdre du jour : en cours de création
URL:https://fnrg65300.fr/event/reunion-du-conseil-dadministration-fnrg65-escala/
LOCATION:ESCALA 65\, ESCALA\, Hautes Pyrénées
END:VEVENT
BEGIN:VEVENT
DTSTART;TZID=Europe/Paris:20251004T110000
DTEND;TZID=Europe/Paris:20251004T150000
DTSTAMP:20260419T223636
CREATED:20250909T071001Z
LAST-MODIFIED:20251004T060410Z
UID:2130-1759575600-1759590000@fnrg65300.fr
SUMMARY:FNRG 65 - Histoire\, Convivialité & Gastronomie
DESCRIPTION:Conférence & repas d’exception par traiteur réputé\n📅 Samedi 4 octobre 2025\n📍 Salle des fêtes – ESCALA (65) \n⏰ 1. Conférence 11h à 12h15 de Monsieur Jean Jacques Dumur\n« Naissance des mythes et légendes autour de la mort de Napoléon 1er à Ste Hélène » (pour celles ou ceux qui veulent assister) \n⏰ 2. Les dernières brèves évoquées par le président Serge Dumanoir 12h15 à 12h30 \n⏰ 3. Apéritif de 12h30 à 13h00 \n⏰ 4. Repas à partir de 13 heures \n📅 INSCRIPTION avant le samedi 20 Septembre 2025 \n \n🥂 Entrée\n✨ Ris de veau à l’ancienne\n🍗 Plat principal\n✨ Suprême de pintadeau – sauce aux cèpes\n✨ Gratin dauphinois \n🧀 Fromage et sa confiture \n🍮 Dessert\n✨ Pets de nonne\nnappés d’une onctueuse crème anglaise\n\n🍷 Boissons\nVin rouge – Vin rosé \n☕ Café – Thé
URL:https://fnrg65300.fr/event/fnrg-65-histoire-convivialite-gastronomie/
LOCATION:ESCALA 65\, ESCALA\, Hautes Pyrénées
END:VEVENT
END:VCALENDAR