BEGIN:VCALENDAR
VERSION:2.0
PRODID:-//FNRG65300 - ECPv6.15.14//NONSGML v1.0//EN
CALSCALE:GREGORIAN
METHOD:PUBLISH
X-WR-CALNAME:FNRG65300
X-ORIGINAL-URL:https://fnrg65300.fr
X-WR-CALDESC:Évènements pour FNRG65300
REFRESH-INTERVAL;VALUE=DURATION:PT1H
X-Robots-Tag:noindex
X-PUBLISHED-TTL:PT1H
BEGIN:VTIMEZONE
TZID:Europe/Paris
BEGIN:DAYLIGHT
TZOFFSETFROM:+0100
TZOFFSETTO:+0200
TZNAME:CEST
DTSTART:20240331T010000
END:DAYLIGHT
BEGIN:STANDARD
TZOFFSETFROM:+0200
TZOFFSETTO:+0100
TZNAME:CET
DTSTART:20241027T010000
END:STANDARD
BEGIN:DAYLIGHT
TZOFFSETFROM:+0100
TZOFFSETTO:+0200
TZNAME:CEST
DTSTART:20250330T010000
END:DAYLIGHT
BEGIN:STANDARD
TZOFFSETFROM:+0200
TZOFFSETTO:+0100
TZNAME:CET
DTSTART:20251026T010000
END:STANDARD
BEGIN:DAYLIGHT
TZOFFSETFROM:+0100
TZOFFSETTO:+0200
TZNAME:CEST
DTSTART:20260329T010000
END:DAYLIGHT
BEGIN:STANDARD
TZOFFSETFROM:+0200
TZOFFSETTO:+0100
TZNAME:CET
DTSTART:20261025T010000
END:STANDARD
END:VTIMEZONE
BEGIN:VEVENT
DTSTART;TZID=Europe/Paris:20250906T093000
DTEND;TZID=Europe/Paris:20250906T143000
DTSTAMP:20260420T000523
CREATED:20250711T080014Z
LAST-MODIFIED:20250711T080014Z
UID:1958-1757151000-1757169000@fnrg65300.fr
SUMMARY:Assemblée Générale  F.D.R.G.  65
DESCRIPTION:📅 Assemblée Générale F.D.R.G. 65📍 Le samedi 6 septembre à partir de 09h30📌 R.D.V. à la mairie de Mauvezin (65)➡️ Assemblée Générale Ordinaire \n🚶‍♂️ Déplacement jusqu’au monument aux morts (près de l’église)🎖️ Cérémonie avec dépôt de gerbe \n🏛️ Retour en salle de réunion à la mairie🗣️ Discours \n🍸 Apéritif à la mairie \n🚗 Déplacement jusqu’au restaurant « L’Auberge de l’Arros »🍽️ Repas convivial \n\n🍴 Menu :\n🥣 Potage🍖 Jambon du pays🥧 Bouchées à la reine🦆 Confit de canard🥔 Pommes dauphines🥗 Salade🍮 Crème vanille + 🍩 Beignets☕ Café
URL:https://fnrg65300.fr/event/assemblee-generale-f-d-r-g-65/
LOCATION:mairie de Mauvezin (65)\, mairie de Mauvezin (65)\, France
END:VEVENT
BEGIN:VEVENT
DTSTART;TZID=Europe/Paris:20250925T110000
DTEND;TZID=Europe/Paris:20250925T120000
DTSTAMP:20260420T000523
CREATED:20250708T062324Z
LAST-MODIFIED:20250708T062324Z
UID:1953-1758798000-1758801600@fnrg65300.fr
SUMMARY:Journée nationale d'hommage aux Harkis et autres membres des formations supplétives
DESCRIPTION:Chaque année\, le 25 septembre\, la Nation rend hommage aux anciens Harkis et aux autres membres des formations supplétives qui ont combattu aux côtés de l’armée française pendant la guerre d’Algérie\, de 1954 à 1962.
URL:https://fnrg65300.fr/event/journee-nationale-dhommage-aux-harkis-et-autres-membres-des-formations-suppletives/
END:VEVENT
END:VCALENDAR