BEGIN:VCALENDAR
VERSION:2.0
PRODID:-//FNRG65300 - ECPv6.15.14//NONSGML v1.0//EN
CALSCALE:GREGORIAN
METHOD:PUBLISH
X-ORIGINAL-URL:https://fnrg65300.fr
X-WR-CALDESC:Évènements pour FNRG65300
REFRESH-INTERVAL;VALUE=DURATION:PT1H
X-Robots-Tag:noindex
X-PUBLISHED-TTL:PT1H
BEGIN:VTIMEZONE
TZID:UTC
BEGIN:STANDARD
TZOFFSETFROM:+0000
TZOFFSETTO:+0000
TZNAME:UTC
DTSTART:20240101T000000
END:STANDARD
END:VTIMEZONE
BEGIN:VTIMEZONE
TZID:Europe/Paris
BEGIN:DAYLIGHT
TZOFFSETFROM:+0100
TZOFFSETTO:+0200
TZNAME:CEST
DTSTART:20240331T010000
END:DAYLIGHT
BEGIN:STANDARD
TZOFFSETFROM:+0200
TZOFFSETTO:+0100
TZNAME:CET
DTSTART:20241027T010000
END:STANDARD
BEGIN:DAYLIGHT
TZOFFSETFROM:+0100
TZOFFSETTO:+0200
TZNAME:CEST
DTSTART:20250330T010000
END:DAYLIGHT
BEGIN:STANDARD
TZOFFSETFROM:+0200
TZOFFSETTO:+0100
TZNAME:CET
DTSTART:20251026T010000
END:STANDARD
BEGIN:DAYLIGHT
TZOFFSETFROM:+0100
TZOFFSETTO:+0200
TZNAME:CEST
DTSTART:20260329T010000
END:DAYLIGHT
BEGIN:STANDARD
TZOFFSETFROM:+0200
TZOFFSETTO:+0100
TZNAME:CET
DTSTART:20261025T010000
END:STANDARD
END:VTIMEZONE
BEGIN:VEVENT
DTSTART;TZID=UTC:20250618T113000
DTEND;TZID=UTC:20250618T120000
DTSTAMP:20260420T040851
CREATED:20250419T170457Z
LAST-MODIFIED:20250617T111054Z
UID:207-1750246200-1750248000@fnrg65300.fr
SUMMARY:Commémoration de l’Appel du 18 juin
DESCRIPTION:Gerbes déposées par FNRG-65 et la Mairie de Lannemezan
URL:https://fnrg65300.fr/event/commemoration-de-lappel-du-18-juin/
LOCATION:Monument aux morts Lannemezan\, Monument aux morts\, Lannemezan\, Sélectionner un État :\, 65300\, France
END:VEVENT
BEGIN:VEVENT
DTSTART;TZID=Europe/Paris:20250621T150000
DTEND;TZID=Europe/Paris:20250621T160000
DTSTAMP:20260420T040851
CREATED:20250611T073803Z
LAST-MODIFIED:20250611T073803Z
UID:1674-1750518000-1750521600@fnrg65300.fr
SUMMARY:Festival culturel et multi-époque de Campuzan (65)
DESCRIPTION:🎖️ CÉRÉMONIE PATRIOTIQUE & EXPOSITION MÉMORIELLE 🎖️Festival culturel & multi-époque – Campuzan (65)Commune proche de Galan\n📅 Samedi 21 juin🕒 15h15📍 Monument aux Morts de Campuzan \nDans le cadre du Festival Culturel et Multi-Époque\,la commune de Campuzan vous invite à une cérémonie patriotiqueen hommage aux morts pour la France. \nCette cérémonie sera suivie d’une exposition dédiée à la guerre d’Algérie\,rendant hommage aux victimes et aux appelés du contingent. \n➡️ Entrée libre – Tout public➡️ Présence souhaitée en tenue d’association ou uniforme pour les porte-drapeaux \n📌 Organisé en partenariat avec les associations mémorielles et les organisateurs du Festival de Campuzan \nOffice national des combattants et des victimes de guerre   \n \ncopyright © webmaster FNRG - Chargé de communication
URL:https://fnrg65300.fr/event/festival-culturel-et-multi-epoque-de-campuzan-65/
LOCATION:Campuzan
END:VEVENT
END:VCALENDAR