BEGIN:VCALENDAR
VERSION:2.0
PRODID:-//FNRG65300 - ECPv6.15.14//NONSGML v1.0//EN
CALSCALE:GREGORIAN
METHOD:PUBLISH
X-ORIGINAL-URL:https://fnrg65300.fr
X-WR-CALDESC:Évènements pour FNRG65300
REFRESH-INTERVAL;VALUE=DURATION:PT1H
X-Robots-Tag:noindex
X-PUBLISHED-TTL:PT1H
BEGIN:VTIMEZONE
TZID:Europe/Paris
BEGIN:DAYLIGHT
TZOFFSETFROM:+0100
TZOFFSETTO:+0200
TZNAME:CEST
DTSTART:20250330T010000
END:DAYLIGHT
BEGIN:STANDARD
TZOFFSETFROM:+0200
TZOFFSETTO:+0100
TZNAME:CET
DTSTART:20251026T010000
END:STANDARD
BEGIN:DAYLIGHT
TZOFFSETFROM:+0100
TZOFFSETTO:+0200
TZNAME:CEST
DTSTART:20260329T010000
END:DAYLIGHT
BEGIN:STANDARD
TZOFFSETFROM:+0200
TZOFFSETTO:+0100
TZNAME:CET
DTSTART:20261025T010000
END:STANDARD
BEGIN:DAYLIGHT
TZOFFSETFROM:+0100
TZOFFSETTO:+0200
TZNAME:CEST
DTSTART:20270328T010000
END:DAYLIGHT
BEGIN:STANDARD
TZOFFSETFROM:+0200
TZOFFSETTO:+0100
TZNAME:CET
DTSTART:20271031T010000
END:STANDARD
END:VTIMEZONE
BEGIN:VEVENT
DTSTART;TZID=Europe/Paris:20260216T100000
DTEND;TZID=Europe/Paris:20260216T120000
DTSTAMP:20260419T164044
CREATED:20260210T163840Z
LAST-MODIFIED:20260214T141210Z
UID:2496-1771236000-1771243200@fnrg65300.fr
SUMMARY:Conseil d'administration FDRG (Tarbes)
DESCRIPTION:
URL:https://fnrg65300.fr/event/conseil-dadministration/
END:VEVENT
BEGIN:VEVENT
DTSTART;TZID=Europe/Paris:20260216T150000
DTEND;TZID=Europe/Paris:20260216T153000
DTSTAMP:20260419T164044
CREATED:20260210T173137Z
LAST-MODIFIED:20260214T140856Z
UID:2522-1771254000-1771255800@fnrg65300.fr
SUMMARY:Hommage aux héros de la GENDARMERIE
DESCRIPTION:CASERNE GENDARMERIE MOBILE
URL:https://fnrg65300.fr/event/hommage-aux-heros-de-la-gie/
LOCATION:TARBES
END:VEVENT
END:VCALENDAR