BEGIN:VCALENDAR
VERSION:2.0
PRODID:-//FNRG65300 - ECPv6.15.14//NONSGML v1.0//EN
CALSCALE:GREGORIAN
METHOD:PUBLISH
X-WR-CALNAME:FNRG65300
X-ORIGINAL-URL:https://fnrg65300.fr
X-WR-CALDESC:Évènements pour FNRG65300
REFRESH-INTERVAL;VALUE=DURATION:PT1H
X-Robots-Tag:noindex
X-PUBLISHED-TTL:PT1H
BEGIN:VTIMEZONE
TZID:Europe/Paris
BEGIN:DAYLIGHT
TZOFFSETFROM:+0100
TZOFFSETTO:+0200
TZNAME:CEST
DTSTART:20250330T010000
END:DAYLIGHT
BEGIN:STANDARD
TZOFFSETFROM:+0200
TZOFFSETTO:+0100
TZNAME:CET
DTSTART:20251026T010000
END:STANDARD
BEGIN:DAYLIGHT
TZOFFSETFROM:+0100
TZOFFSETTO:+0200
TZNAME:CEST
DTSTART:20260329T010000
END:DAYLIGHT
BEGIN:STANDARD
TZOFFSETFROM:+0200
TZOFFSETTO:+0100
TZNAME:CET
DTSTART:20261025T010000
END:STANDARD
BEGIN:DAYLIGHT
TZOFFSETFROM:+0100
TZOFFSETTO:+0200
TZNAME:CEST
DTSTART:20270328T010000
END:DAYLIGHT
BEGIN:STANDARD
TZOFFSETFROM:+0200
TZOFFSETTO:+0100
TZNAME:CET
DTSTART:20271031T010000
END:STANDARD
END:VTIMEZONE
BEGIN:VEVENT
DTSTART;TZID=Europe/Paris:20260210T080000
DTEND;TZID=Europe/Paris:20260210T170000
DTSTAMP:20260419T164707
CREATED:20260210T163552Z
LAST-MODIFIED:20260210T163552Z
UID:2494-1770710400-1770742800@fnrg65300.fr
SUMMARY:Repas de cohésion
DESCRIPTION:Repas de cohésion : il aura lieu à la date du samedi 30 mai 2026. Le lieu n’est pas encore fixé
URL:https://fnrg65300.fr/event/repas-de-cohesion/
END:VEVENT
BEGIN:VEVENT
DTSTART;TZID=Europe/Paris:20260210T113000
DTEND;TZID=Europe/Paris:20260210T123000
DTSTAMP:20260419T164707
CREATED:20260210T164638Z
LAST-MODIFIED:20260210T164638Z
UID:2504-1770723000-1770726600@fnrg65300.fr
SUMMARY:Anniversaire de la victoire du 8 mai 1945
DESCRIPTION:Loi n°81-893
URL:https://fnrg65300.fr/event/anniversaire-de-la-victoire-du-8-mai-1945-2/
LOCATION:Monument aux morts Lannemezan\, Monument aux morts\, Lannemezan\, Sélectionner un État :\, 65300\, France
END:VEVENT
END:VCALENDAR