BEGIN:VCALENDAR
VERSION:2.0
PRODID:-//FNRG65300 - ECPv6.15.14//NONSGML v1.0//EN
CALSCALE:GREGORIAN
METHOD:PUBLISH
X-ORIGINAL-URL:https://fnrg65300.fr
X-WR-CALDESC:Évènements pour FNRG65300
REFRESH-INTERVAL;VALUE=DURATION:PT1H
X-Robots-Tag:noindex
X-PUBLISHED-TTL:PT1H
BEGIN:VTIMEZONE
TZID:Europe/Paris
BEGIN:DAYLIGHT
TZOFFSETFROM:+0100
TZOFFSETTO:+0200
TZNAME:CEST
DTSTART:20240331T010000
END:DAYLIGHT
BEGIN:STANDARD
TZOFFSETFROM:+0200
TZOFFSETTO:+0100
TZNAME:CET
DTSTART:20241027T010000
END:STANDARD
BEGIN:DAYLIGHT
TZOFFSETFROM:+0100
TZOFFSETTO:+0200
TZNAME:CEST
DTSTART:20250330T010000
END:DAYLIGHT
BEGIN:STANDARD
TZOFFSETFROM:+0200
TZOFFSETTO:+0100
TZNAME:CET
DTSTART:20251026T010000
END:STANDARD
BEGIN:DAYLIGHT
TZOFFSETFROM:+0100
TZOFFSETTO:+0200
TZNAME:CEST
DTSTART:20260329T010000
END:DAYLIGHT
BEGIN:STANDARD
TZOFFSETFROM:+0200
TZOFFSETTO:+0100
TZNAME:CET
DTSTART:20261025T010000
END:STANDARD
END:VTIMEZONE
BEGIN:VEVENT
DTSTART;TZID=Europe/Paris:20250709T160000
DTEND;TZID=Europe/Paris:20250709T170000
DTSTAMP:20260420T040850
CREATED:20250707T064317Z
LAST-MODIFIED:20250707T064758Z
UID:1945-1752076800-1752080400@fnrg65300.fr
SUMMARY:Réunion de bureau VISIO 16H Mercredi 9 Juillet
DESCRIPTION:Ordre du jour (non exhaustif) : \n\nPréparation de la prochaine réunion du prochain Conseil d’Administration\n \nPoint sur les actions Web (site) : réalisées\, en cours\, à venir\n \nPoint sur la Gazette N°2 : contenus\, mise en page\, diffusion\n \nQuestions diverses
URL:https://fnrg65300.fr/event/reunion-de-bureau-visio-16h-mercredi-9-juillet/
LOCATION:VISIO\, 301 rue du tir\, Lannemezan\, Sélectionner un État :\, 65300\, France
END:VEVENT
END:VCALENDAR