BEGIN:VCALENDAR
VERSION:2.0
PRODID:-//FNRG65300 - ECPv6.15.14//NONSGML v1.0//EN
CALSCALE:GREGORIAN
METHOD:PUBLISH
X-ORIGINAL-URL:https://fnrg65300.fr
X-WR-CALDESC:Évènements pour FNRG65300
REFRESH-INTERVAL;VALUE=DURATION:PT1H
X-Robots-Tag:noindex
X-PUBLISHED-TTL:PT1H
BEGIN:VTIMEZONE
TZID:UTC
BEGIN:STANDARD
TZOFFSETFROM:+0000
TZOFFSETTO:+0000
TZNAME:UTC
DTSTART:20240101T000000
END:STANDARD
END:VTIMEZONE
BEGIN:VEVENT
DTSTART;TZID=UTC:20250531T113000
DTEND;TZID=UTC:20250531T153000
DTSTAMP:20260420T053753
CREATED:20250423T153434Z
LAST-MODIFIED:20250425T000438Z
UID:464-1748691000-1748705400@fnrg65300.fr
SUMMARY:Repas FNRG-65300 Journée de cohésion samedi 31 mai 2025
DESCRIPTION:Menu en ligne sur notre site WEB www.fnrg65300.fr \nVoir l’article détaillé
URL:https://fnrg65300.fr/event/repas-fnrg-65300/
LOCATION:Salle des fêtes CAMPUZAN\, Campuzan\, 65230\, France
END:VEVENT
END:VCALENDAR